BEGIN:VCALENDAR
VERSION:2.0
PRODID:-//Tim&#039;s Guitar Workshop - ECPv6.15.20//NONSGML v1.0//EN
CALSCALE:GREGORIAN
METHOD:PUBLISH
X-ORIGINAL-URL:https://timsguitarworkshop.com
X-WR-CALDESC:Events for Tim&#039;s Guitar Workshop
REFRESH-INTERVAL;VALUE=DURATION:PT1H
X-Robots-Tag:noindex
X-PUBLISHED-TTL:PT1H
BEGIN:VTIMEZONE
TZID:America/Los_Angeles
BEGIN:DAYLIGHT
TZOFFSETFROM:-0800
TZOFFSETTO:-0700
TZNAME:PDT
DTSTART:20240310T100000
END:DAYLIGHT
BEGIN:STANDARD
TZOFFSETFROM:-0700
TZOFFSETTO:-0800
TZNAME:PST
DTSTART:20241103T090000
END:STANDARD
BEGIN:DAYLIGHT
TZOFFSETFROM:-0800
TZOFFSETTO:-0700
TZNAME:PDT
DTSTART:20250309T100000
END:DAYLIGHT
BEGIN:STANDARD
TZOFFSETFROM:-0700
TZOFFSETTO:-0800
TZNAME:PST
DTSTART:20251102T090000
END:STANDARD
BEGIN:DAYLIGHT
TZOFFSETFROM:-0800
TZOFFSETTO:-0700
TZNAME:PDT
DTSTART:20260308T100000
END:DAYLIGHT
BEGIN:STANDARD
TZOFFSETFROM:-0700
TZOFFSETTO:-0800
TZNAME:PST
DTSTART:20261101T090000
END:STANDARD
END:VTIMEZONE
BEGIN:VEVENT
DTSTART;TZID=America/Los_Angeles:20250301T140000
DTEND;TZID=America/Los_Angeles:20250301T150000
DTSTAMP:20260424T040530
CREATED:20250202T133532Z
LAST-MODIFIED:20250202T133532Z
UID:10000011-1740837600-1740841200@timsguitarworkshop.com
SUMMARY:March Tune of The Month - Special Guest: Adam Levy
DESCRIPTION:Join us as we explore this month’s Tune of the Month. This will be hosted by a very special guest\, Adam Levy. \nTune in: www.timsguitarworkshop.com/livestreams
URL:https://timsguitarworkshop.com/event/march-tune-of-the-month-special-guest-adam-levy/
CATEGORIES:Tune of the Month
ATTACH;FMTTYPE=image/jpeg:https://timsguitarworkshop.com/wp-content/uploads/2025/01/TGW-TOM-Directory-1.jpg
END:VEVENT
END:VCALENDAR